Workbook

Sheet Air Science Inc.

Sheet Baghouse Calculator
C1: Baghouse PM10 Testing Frequency Calculator
A2: BAGHOUSE SPECIFICATIONS:
A3: Enter specifications into blue cells
A4: Baghouse operating schedule (hr/yr) | C4: 8760
A6: CATEGORY 1: POTENTIAL TO EMIT
A7: PM10 Controlled Potential-to-Emit (ton/yr) | C7: =C8*C9*60*C4/7000/2000 -> 2.8908 | D7: Calculated from grain loading factor and exhaust flow rate.
A8: Grain Loading Factor (gr/dscfm) | C8: 0.022 | D8: From Permit to Operate or Manufacturer's Information
A9: Baghouse Exhaust Flow Rate (dscfm) | C9: 3500 | D9: From Permit to Operate or Manufacturer's Information
A10: Facility-Wide (µg/m3) | C10: 35 | D10: Enter the facility's modeled PM10 impact.
A11: Source Specific (µg/m3) | C11: 2 | D11: Optional - enter the baghouse's modeled PM10 impact.
A13: CATEGORY 2: OPERATING PARAMETERS
B14: Material Throughput (ton/hr) | C14: 17 | D14: From Permit to Operate
A16: CATEGORY 3: COMPLIANCE HISTORY
A17: Enter the number of final Notice of Alleged Violations (NOAVs) issued to the facility for each of the following categories during the last 60 months. If a final NOAV includes multiple violations of the same type, the NOAV counts as one violation. If an NOAV includes violations in multiple categories, enter a one for each category included.
A19: Example 1: A final NOAV was issued for three failed opacity tests in a given system. Enter 1 under Failed Opacity.
A20: Example 2: A single NOAV was issued for a failed source test and a failed opacity of the system that includes the baghouse. Enter 1 under Failed Source Tests and also enter 1 under Failed Opacity Test.
A21: The TDS will be re-evaluated whenever a NOAV is issued, which may result in a new testing schedule.
B23: Failed Source Tests | C23: 1 | D23: System Basis
B24: Throughput Exceedances | C24: 1 | D24: System Basis
B25: Records | C25: 1 | D25: Facility-Wide Basis
B26: Failed Opacity | C26: 1 | D26: System Basis
B27: Failure to Test | C27: 1 | D27: System Basis
B28: Control Equipment Issues | C28: 1 | D28: Facility-Wide Basis
A30: TESTING FREQUENCY RESULTS
B31: TDS Ranking | C31: ='BAPC Factors'!H17 -> 0.225
B32: Testing Frequency | C32: =HLOOKUP(B32,'BAPC Factors'!$B$21:$E$26,MATCH($C$31,'BAPC Factors'!$B$21:$B$26,-1),0) -> Initial and Anniversary Testing
B33: Notes | C33: =HLOOKUP(B33,'BAPC Factors'!$B$21:$E$26,MATCH($C$31,'BAPC Factors'!$B$21:$B$26,-1),0) -> If initial or anniversary test fails, then anniversary testing shall continue until three consecutive tests pass.
C34: All laboratory baghouses are exempt from testing requirements.
C35: All existing baghouses are exempt from initial testing requirements.
A37: TESTING FREQUENCY EXPLANATION
A39: Initial Testing | C39: Non-recurring initial performance test
A40: Anniversary Testing | C40: Performance testing conducted one (1) year after initial performance test or test failure (conditionally recurring).
A41: Renewal Testing | C41: Performance testing required no earlier than three hundred sixty-five (365) days and no later than ninety (90) days before date of permit expiration.
A42: Mid-Point Testing | C42: Performance test required no earlier than two (2) years and no later than three (3) years from initial test or renewal test.
A43: Annual Testing | C43: Recurring performance testing required at anniversary of previous test.

Sheet BAPC Factors
A3: Score Calculation
A4: Category | D4: Parameter | E4: Value | F4: Rank | G4: Weight | H4: Category %
A5: 1 | D5: ='Baghouse Calculator'!A7 -> PM10 Controlled Potential-to-Emit (ton/yr) | E5: ='Baghouse Calculator'!C7 -> 2.8908 | F5: =MATCH(E5,$C$41:$G$41,1) -> 2 | G5: 0.125 | H5: =F5*G5 -> 0.25
A6: 1 | D6: ='Baghouse Calculator'!A8 -> Grain Loading Factor (gr/dscfm) | E6: ='Baghouse Calculator'!C8 -> 0.022 | F6: =MATCH(E6,$C$42:$G$42,-1) -> 1 | G6: 0.1 | H6: =F6*G6 -> 0.1
A7: 1 | D7: ='Baghouse Calculator'!A9 -> Baghouse Exhaust Flow Rate (dscfm) | E7: ='Baghouse Calculator'!C9 -> 3500 | F7: =MATCH(E7,$C$43:$G$43,1) -> 1 | G7: 0.1 | H7: =F7*G7 -> 0.1
A8: 1 | D8: ='Baghouse Calculator'!A10 -> Facility-Wide (µg/m3) | E8: ='Baghouse Calculator'!C10 -> 35 | F8: =MATCH(E8,$C$45:$G$45,1) -> 1 | G8: =17.5*0.4/100 -> 0.07 | H8: =IF(E$9>0,F$8*G$8,F8*(G8+G9)) -> 0.07
A9: 1 | D9: ='Baghouse Calculator'!A11 -> Source Specific (µg/m3) | E9: ='Baghouse Calculator'!C11 -> 2 | F9: =MATCH(E9,$C$44:$G$44,1) -> 1 | G9: =17.5*0.6/100 -> 0.105 | H9: =IF(E$9>0,F$9*G$9,0) -> 0.105
A10: 2 | D10: ='Baghouse Calculator'!B14 -> Material Throughput (ton/hr) | E10: ='Baghouse Calculator'!C14 -> 17 | F10: =MATCH(E10,$C$46:$G$46,1) -> 1 | G10: 0.084 | H10: =F10*G10 -> 0.084
A11: 3 | D11: ='Baghouse Calculator'!B23 -> Failed Source Tests | E11: ='Baghouse Calculator'!C23 -> 1 | G11: 0.1015 | H11: =E11*G11 -> 0.1015
A12: 3 | D12: ='Baghouse Calculator'!B24 -> Throughput Exceedances | E12: ='Baghouse Calculator'!C24 -> 1 | G12: 0.067 | H12: =E12*G12 -> 0.067
A13: 3 | D13: ='Baghouse Calculator'!B25 -> Records | E13: ='Baghouse Calculator'!C25 -> 1 | G13: 0.033 | H13: =E13*G13 -> 0.033
A14: 3 | D14: ='Baghouse Calculator'!B26 -> Failed Opacity | E14: ='Baghouse Calculator'!C26 -> 1 | G14: 0.033 | H14: =E14*G14 -> 0.033
A15: 3 | D15: ='Baghouse Calculator'!B27 -> Failure to Test | E15: ='Baghouse Calculator'!C27 -> 1 | G15: 0.1015 | H15: =E15*G15 -> 0.1015
A16: 3 | D16: ='Baghouse Calculator'!B28 -> Control Equipment Issues | E16: ='Baghouse Calculator'!C28 -> 1 | G16: 0.08 | H16: =E16*G16 -> 0.08
D17: Weighted Cumulative Result ÷ 5 | H17: =SUM(H5:H16)/5 -> 0.225
A20: Testing Frequency
A21: Min | B21: Max | C21: Testing Frequency | E21: Notes
A22: =B23 -> 0.75 | B22: 1 | C22: Initial and Annual Testing
A23: =B24 -> 0.5 | B23: 0.75 | C23: Initial, Mid-Point, and Renewal Testing | E23: Anniversary test required if a test fails.
A24: =B25 -> 0.25 | B24: 0.5 | C24: Initial and Renewal Testing | E24: Anniversary test required if a test fails.
A25: =B26 -> 0.15 | B25: 0.25 | C25: Initial and Anniversary Testing | E25: If initial or anniversary test fails, then anniversary testing shall continue until three consecutive tests pass.
A26: 0 | B26: 0.15 | C26: Initial Only Testing | E26: Anniversary test required if initial test fails.
A29: Modeling Impacts
B30: Facilty - NvAAQS: | C30: 150 | D30: Baghouse - SIL: | E30: 5
A31: Rank | B31: % NvAAQS | C31: Value | D31: % SIL/NvAAQS | E31: Value
A32: 1
A33: 2 | B33: 0.25 | C33: =ROUND($C$30*B33,1) -> 37.5 | D33: 0.5 | E33: =ROUND($E$30*D33,1) -> 2.5
A34: 3 | B34: 0.34 | C34: =ROUND($C$30*B34,1) -> 51 | D34: 1 | E34: =ROUND($E$30*D34,1) -> 5
A35: 4 | B35: 0.67 | C35: =ROUND($C$30*B35,1) -> 100.5 | D35: 0.07 | E35: =ROUND($C$30*D35,1) -> 10.5
A36: 5 | B36: 0.9 | C36: =ROUND($C$30*B36,1) -> 135 | D36: 0.16 | E36: =ROUND($C$30*D36,1) -> 24
A39: Rank Divisions
A40: Parameter | B40: Rank: | C40: 1 | D40: 2 | E40: 3 | F40: 4 | G40: 5
A41: Controlled PTE (TPY) | C41: 0 | D41: 1.1325 | E41: 3.2644 | F41: 7.18025 | G41: 15.33
A42: Grain Loading (gr/dscf) | C42: 1000 | D42: 0.0218 | E42: 0.016 | F42: 0.008 | G42: 0.005
A43: Exhaust Flow (dscfm) | C43: 0 | D43: 4000 | E43: 7735 | F43: 17916 | G43: 36000
A44: Modeled BAGHOUSE (µg/m3) | C44: =VLOOKUP(C$40,$A$32:$E$36,5,0) -> 0 | D44: =VLOOKUP(D$40,$A$32:$E$36,5,0) -> 2.5 | E44: =VLOOKUP(E$40,$A$32:$E$36,5,0) -> 5 | F44: =VLOOKUP(F$40,$A$32:$E$36,5,0) -> 10.5 | G44: =VLOOKUP(G$40,$A$32:$E$36,5,0) -> 24
A45: Modeled FACILITY (µg/m3) | C45: 0 | D45: =VLOOKUP(D$40,$A$32:$C$36,3,0) -> 37.5 | E45: =VLOOKUP(E$40,$A$32:$C$36,3,0) -> 51 | F45: =VLOOKUP(F$40,$A$32:$C$36,3,0) -> 100.5 | G45: =VLOOKUP(G$40,$A$32:$C$36,3,0) -> 135
A46: Material Throughput (Factor for PTE) | C46: 0 | D46: 18 | E46: 65.85 | F46: 560 | G46: 1250
